BEGIN:VCALENDAR
VERSION:2.0
PRODID:-//WASSER ABWASSER TECHNIK - ECPv6.11.2.1//NONSGML v1.0//EN
CALSCALE:GREGORIAN
METHOD:PUBLISH
X-ORIGINAL-URL:https://www.wasser-abwasser-technik.com
X-WR-CALDESC:Veranstaltungen für WASSER ABWASSER TECHNIK
REFRESH-INTERVAL;VALUE=DURATION:PT1H
X-Robots-Tag:noindex
X-PUBLISHED-TTL:PT1H
BEGIN:VTIMEZONE
TZID:Europe/Berlin
BEGIN:DAYLIGHT
TZOFFSETFROM:+0100
TZOFFSETTO:+0200
TZNAME:CEST
DTSTART:20220327T010000
END:DAYLIGHT
BEGIN:STANDARD
TZOFFSETFROM:+0200
TZOFFSETTO:+0100
TZNAME:CET
DTSTART:20221030T010000
END:STANDARD
END:VTIMEZONE
BEGIN:VEVENT
DTSTART;VALUE=DATE:20220912
DTEND;VALUE=DATE:20220917
DTSTAMP:20260419T230924
CREATED:20220211T122848Z
LAST-MODIFIED:20220211T122848Z
UID:52219-1662940800-1663372799@www.wasser-abwasser-technik.com
SUMMARY:drinktec 2022
DESCRIPTION:Die drink­tec find­et seit 1951 in München statt\, seit 1985 im Vier­jahres­rhyth­mus. Sie ist die wichtig­ste Ver­anstal­tung der Branche. Her­steller (Zulief­er­er) aus aller Welt\, darunter weltweit operierende Konz­erne eben­so wie mit­tel­ständis­che Unternehmen\, tre­f­fen auf Pro­duzen­ten und Händler jed­er Größe für Getränke und Liq­uid Food. Auf der drink­tec wird Zukun­ft gemacht. Die Messe gilt in der Branche als Pre­mieren­plat­tform für Welt­neuheit­en. Die Her­steller präsen­tieren die neuesten Tech­nolo­gien rund um die Her­stel­lung\, Abfül­lung und Ver­pack­ung von Getränken aller Art bis hin zu Liq­uid Food – Rohstoffe und logis­tis­che Lösun­gen inklu­sive. Die The­men Getränke­mar­ket­ing und Ver­pack­ungs­de­sign run­den das Port­fo­lio ab. \nZur drink­tec 2017\, die vom 11. bis 15. Sep­tem­ber 2017 stat­tfand\, kamen 1.749 Aussteller aus 80 Län­dern sowie über 76.000 Besuch­er aus 170 Ländern.
URL:https://www.wasser-abwasser-technik.com/veranstaltung/drinktec-2022/
LOCATION:Messe München\, Messegelände\, München\, Bayern\, 81823 München\, Deutschland
ATTACH;FMTTYPE=image/png:https://www.wasser-abwasser-technik.com/wp-content/uploads/sites/3/Bildschirmfoto-2022-02-11-um-13.25.29.png
ORGANIZER;CN="Messe M%C3%BCnchen GmbH":MAILTO:newsline@messe-muenchen.de
END:VEVENT
BEGIN:VEVENT
DTSTART;TZID=Europe/Berlin:20220913T090000
DTEND;TZID=Europe/Berlin:20220914T180000
DTSTAMP:20260419T230924
CREATED:20220330T135807Z
LAST-MODIFIED:20220330T135807Z
UID:52224-1663059600-1663178400@www.wasser-abwasser-technik.com
SUMMARY:Basisseminar für Planer von Anlagen mit wassergefährdeten Stoffen
DESCRIPTION:Grund­ken­nt­nisse für die Pla­nung wer­den in diesem Basis­sem­i­nar zur Pla­nung von Anla­gen zum Umgang mit wasserge­fährden­den Stof­fen ver­mit­telt. Dieses Basis­sem­i­nar ist Bestandteil eines mod­u­laren Sys­tems für die Aus­bil­dung von Plan­ern welche durch die Ver­tiefungs-Sem­i­nare: Dicht­flächen\, Rück­hal­tesys­tem und Rohrleitun­gen. Darüber hin­aus wer­den rechtliche Grund­la­gen wie WHG\, AwSV\, TRwS\, Betr­SichV sowie BIm­SchG und betra­chtet inwieweit sie für die Anla­gen zum Umgang mit wasserge­fährden­den Stof­fen von Bedeu­tung sind\, behandelt. \nDas Sem­i­nar ver­mit­telt Ihnen Antworten auf häu­fige Fragen:\n• Wer ist eigentlich Anlagenplaner?\n• Welche rechtlichen Aspek­te laut WHG muss der Anla­gen­plan­er beachten?\n• Was ist eine Anlage? Wie gren­ze ich eine Anlage ab?\n• Welche Aus­gangs­dat­en (z. B. Stoffmerk­male\, Men­gen\, Art des Umgangs) sind für die die rechtssichere Pla­nung erforderlich?\n• Wie wird ein Sicher­heit­skonzept entwickelt?\n• Welche Auf­gaben haben Plan­er\, Betreiber\, Fachbetriebe?\n• Wann muss eine WHG-Anlage bei der Behörde angezeigt bzw. genehmigt werden?\n• Was muss eine Anla­gen­doku­men­ta­tion enthalten?\n• Welche tech­nis­chen Regeln helfen bei der Umset­zung der tech­nis­chen und organ­isatorischen Anforderungen?\n• Wie sind Rück­hal­tekonzepte aufge­baut? Wie halte ich Löschwass­er zurück?\n• Wann ist eine Dicht­fläche aus­re­ichend wider­stand­fähig und wie weise ich das nach?\n• Was mache ich mit Rohrleitun­gen\, die nicht über flüs­sigkeits­dicht­en Flächen ver­laufen? Sind in diesen Fällen beson­dere tech­nis­che Regeln zu beachten?
URL:https://www.wasser-abwasser-technik.com/veranstaltung/wasserrecht-basisseminar/
LOCATION:Haus der Technik\, Hollestr. 1\, Essen\, 45127\, Deutschland
ATTACH;FMTTYPE=image/jpeg:https://www.wasser-abwasser-technik.com/wp-content/uploads/sites/3/CAA0B78AE06E25-ausbildung-zum-planer-fuer-anlagen-mit-wassergefaehrdenden-stoffenqWbB24KHBLCcp_1024x1024.jpg
END:VEVENT
END:VCALENDAR