BEGIN:VCALENDAR
VERSION:2.0
PRODID:-//WASSER ABWASSER TECHNIK - ECPv6.11.2.1//NONSGML v1.0//EN
CALSCALE:GREGORIAN
METHOD:PUBLISH
X-ORIGINAL-URL:https://www.wasser-abwasser-technik.com
X-WR-CALDESC:Veranstaltungen für WASSER ABWASSER TECHNIK
REFRESH-INTERVAL;VALUE=DURATION:PT1H
X-Robots-Tag:noindex
X-PUBLISHED-TTL:PT1H
BEGIN:VTIMEZONE
TZID:Europe/Berlin
BEGIN:DAYLIGHT
TZOFFSETFROM:+0100
TZOFFSETTO:+0200
TZNAME:CEST
DTSTART:20220327T010000
END:DAYLIGHT
BEGIN:STANDARD
TZOFFSETFROM:+0200
TZOFFSETTO:+0100
TZNAME:CET
DTSTART:20221030T010000
END:STANDARD
END:VTIMEZONE
BEGIN:VEVENT
DTSTART;VALUE=DATE:20220927
DTEND;VALUE=DATE:20220930
DTSTAMP:20260419T231514
CREATED:20220209T143724Z
LAST-MODIFIED:20220209T143724Z
UID:52212-1664236800-1664495999@www.wasser-abwasser-technik.com
SUMMARY:FachPack 2022
DESCRIPTION:Die Fach­Pack gilt als eine der bedeu­tend­sten europäis­chen Fachmessen rund um das The­ma Ver­pack­ung. Egal ob Pack­stoffe und Pack­mit­tel\, Ver­pack­ungs­maschi­nen\, Kennze­ich­nungs- und Markiertech­nik\, Ver­pack­ungsvere­delung oder Ver­pack­ungslo­gis­tik – das Ange­botsspek­trum der Messe lässt keine Wün­sche offen. \nHand­feste Antworten auf die Zukun­fts­fra­gen der Branche. Greif­bare Tech­niklö­sun­gen für die Her­aus­forderun­gen von mor­gen. Die Fach­Pack zeigt alles\, was Sie von der Prozess­kette Ver­pack­ung erwarten. Weg­weisende Inno­va­tio­nen eben­so wie prag­ma­tis­ches Denken. Starke Trends eben­so wie über­raschend neue Blick­winkel. Denn die europäis­che Fachmesse für Ver­pack­un­gen\, Prozesse und Tech­nik ist vor allem dies: die Messe der Men­schen\, der Mach­er und der Möglichkeiten.
URL:https://www.wasser-abwasser-technik.com/veranstaltung/fachpack-2022/
LOCATION:Messe Nürnberg\, Messezentrum 1\, Nürnberg\, 90471\, Deutschland
ATTACH;FMTTYPE=image/gif:https://www.wasser-abwasser-technik.com/wp-content/uploads/sites/3/fachpack-e1532415815665.gif
END:VEVENT
BEGIN:VEVENT
DTSTART;TZID=Europe/Berlin:20220927T110000
DTEND;TZID=Europe/Berlin:20220927T120000
DTSTAMP:20260419T231514
CREATED:20220914T075658Z
LAST-MODIFIED:20220914T075658Z
UID:52233-1664276400-1664280000@www.wasser-abwasser-technik.com
SUMMARY:Webinar SAI – Klärschlamm auf Langstrecke
DESCRIPTION:Die Smart Air Injec­tion (SAI) Tech­nolo­gie von Seep­ex ist weit­er auf dem Vor­marsch\, denn Energie und Ressourcen scho­nen ist wichtiger als je zuvor. Deshalb bietet der Bot­trop­er Pumpen­her­steller ein Webi­nar-Duo zu dem energieef­fizien­ten Förderkonzept an. Eines davon richtet sich an Fach­leute aus der Umwelt­branche. Das viel­seit­ige SAI-Sys­tem spielt seine Stärken in ver­schiede­nen Branchen aus: Es senkt die Betrieb­skosten um mehr als 75 % und erhöht die Prozesssicherheit. \n  \nDas ein­stündi­ge Webi­nar ver­mit­telt Experten­wis­sen über das SAI-Förderkonzept\, das viskose Medi­en mit vari­ablem Fest­stof­fge­halt über lange Streck­en fördert. In der Umweltin­dus­trie wird SAI zum Trans­port von entwässertem Schlamm einge­set­zt\, welch­es deut­lich weniger Energie benötigt als herkömm­liche Förder­sys­teme. Da ins­ge­samt nur sehr wenig Druck­luft benötigt wird\, sinken die Betrieb­skosten durch den äußerst gerin­gen Energiebe­darf deut­lich. Ent­fer­nun­gen von bis zu 1.000 Metern mit Rich­tungsän­derun­gen und Höhe­nun­ter­schieden sind prob­lem­los möglich. \nSeep­ex wird einen Ein­blick in das intel­li­gente SAI-Förderkonzept geben\, Anwen­dungs- und Funk­tions­bere­iche aufzeigen und diese mit zahlre­ichen Ref­eren­zen belegen.
URL:https://www.wasser-abwasser-technik.com/veranstaltung/webinar-sai-klaerschlamm-auf-langstrecke/
LOCATION:Newsletter 1 / 2022 // Filtech
ATTACH;FMTTYPE=image/jpeg:https://www.wasser-abwasser-technik.com/wp-content/uploads/sites/3/SAI-500x500-002.jpg
END:VEVENT
END:VCALENDAR