BEGIN:VCALENDAR
VERSION:2.0
PRODID:-//WASSER ABWASSER TECHNIK - ECPv6.11.2.1//NONSGML v1.0//EN
CALSCALE:GREGORIAN
METHOD:PUBLISH
X-ORIGINAL-URL:https://www.wasser-abwasser-technik.com
X-WR-CALDESC:Veranstaltungen für WASSER ABWASSER TECHNIK
REFRESH-INTERVAL;VALUE=DURATION:PT1H
X-Robots-Tag:noindex
X-PUBLISHED-TTL:PT1H
BEGIN:VTIMEZONE
TZID:Europe/Berlin
BEGIN:DAYLIGHT
TZOFFSETFROM:+0100
TZOFFSETTO:+0200
TZNAME:CEST
DTSTART:20220327T010000
END:DAYLIGHT
BEGIN:STANDARD
TZOFFSETFROM:+0200
TZOFFSETTO:+0100
TZNAME:CET
DTSTART:20221030T010000
END:STANDARD
END:VTIMEZONE
BEGIN:VEVENT
DTSTART;TZID=Europe/Berlin:20221018T090000
DTEND;TZID=Europe/Berlin:20221019T163000
DTSTAMP:20260420T003631
CREATED:20220330T143018Z
LAST-MODIFIED:20220330T143018Z
UID:52227-1666083600-1666197000@www.wasser-abwasser-technik.com
SUMMARY:LAU-\, HBV-  und Rohrleitungsanlagen: Seminar zur Entwicklung und Bewertung von Sicherheitskonzepten
DESCRIPTION:Es wird ein­führend die neue Anla­gen­verord­nung (AwSV) als Basis für die Entwick­lung und Bew­er­tung von Sicher­heit­skonzepten für Anla­gen zum Umgang mit wasserge­fährden­den Stof­fen vorgestellt. \nDanach wird auf den Auf­bau von Sicher­heit­skonzepten für Anla­gen zum Umgang mit wasserge­fährden­den Stof­fen – von Pla­nungs­grund­la­gen über Anforderun­gen an Anla­gen\, Anla­gene­in­stu­fung und Abgren­zung\, Ein­stu­fung von Stof­fen eingegangen. \nAbschließend wer­den Anla­gen zum Lagern\, Abfüllen Umschla­gen (LAU-Anla­gen\, Anla­gen zum Her­stellen\, Behan­deln und Ver­wen­den (HBV-Anla­gen und Rohrleitungsan­la­gen mit Beispiel­lö­sun­gen vorgestellt. \nAm 2. Tag ste­hen all­ge­meine und organ­isatorische Anforderun­gen an die Umset­zung von Sicher­heit­skonzepten auf Basis der Tech­nis­chen Regeln an erster Stelle. \nEin erster Schw­er­punkt wid­met sich den Dicht­flächen in Alt- und Neuan­la­gen incl. tech­nis­ch­er Detail­lö­sun­gen und Sanierungsanforderungen. \nIn einem zweit­en Schw­er­punkt wer­den All­ge­meine Anforderun­gen an den Betrieb von Anla­gen sowie die Tech­nis­che Regel TrwS 779 “All­ge­meine Tech­nis­che Regelun­gen” vorgestellt. \nZulet­zt wer­den Anforderun­gen an Fach­be­triebe spez­i­fiziert und wichtige Hin­weise für Auss­chrei­bun­gen und Ange­bote gegeben.
URL:https://www.wasser-abwasser-technik.com/veranstaltung/hbv-lau-und-rohrleitungsanlagen-seminar-bezueglich-entwicklung-und-bewertung-von-sicherheitskonzepten/
LOCATION:Haus der Technik\, Hollestr. 1\, Essen\, 45127\, Deutschland
ATTACH;FMTTYPE=image/jpeg:https://www.wasser-abwasser-technik.com/wp-content/uploads/sites/3/03AE904B270AC4-hbv-lau-und-rohrleitungsanlagenEhIaNkoUHqGWY_1024x1024.jpg
END:VEVENT
END:VCALENDAR