BEGIN:VCALENDAR
VERSION:2.0
PRODID:-//WASSER ABWASSER TECHNIK - ECPv6.11.2.1//NONSGML v1.0//EN
CALSCALE:GREGORIAN
METHOD:PUBLISH
X-WR-CALNAME:WASSER ABWASSER TECHNIK
X-ORIGINAL-URL:https://www.wasser-abwasser-technik.com
X-WR-CALDESC:Veranstaltungen für WASSER ABWASSER TECHNIK
REFRESH-INTERVAL;VALUE=DURATION:PT1H
X-Robots-Tag:noindex
X-PUBLISHED-TTL:PT1H
BEGIN:VTIMEZONE
TZID:Europe/Berlin
BEGIN:DAYLIGHT
TZOFFSETFROM:+0100
TZOFFSETTO:+0200
TZNAME:CEST
DTSTART:20220327T010000
END:DAYLIGHT
BEGIN:STANDARD
TZOFFSETFROM:+0200
TZOFFSETTO:+0100
TZNAME:CET
DTSTART:20221030T010000
END:STANDARD
END:VTIMEZONE
BEGIN:VEVENT
DTSTART;VALUE=DATE:20221019
DTEND;VALUE=DATE:20221027
DTSTAMP:20260420T003606
CREATED:20220209T145001Z
LAST-MODIFIED:20220209T145001Z
UID:52214-1666137600-1666828799@www.wasser-abwasser-technik.com
SUMMARY:K Messe 2022
DESCRIPTION:Die Messe K Düs­sel­dorf (Kun­st­stoffmesse Düs­sel­dorf) ist die inter­na­tionale Fachmesse für Kun­st­stoff\, Kautschuk\, Kun­st­stof­fver­ar­beitung und Kun­st­stoffher­stel­lung weltweit. Das Ausstel­lungsange­bot der mehr als 3.000 nationalen und inter­na­tionalen Aussteller der K Messe Düs­sel­dorf (Kun­st­stoffmesse Düs­sel­dorf) umfasst Maschi­nen und Aus­rüs­tun­gen\, Roh- und Hil­f­sstoffe sowie Hal­bzeuge\, tech­nis­che Teile und ver­stärk­te Kun­st­stof­ferzeug­nisse. Die Leitmesse Düs­sel­dor­fer K Messe wird durch ein Rah­men­pro­gramm mit Son­der­schau ergänzt. \nWirtschaftlich­er Erfolg wird zukün­ftig mehr und mehr abhän­gen von der gelun­genen Ver­schmelzung der dig­i­tal­en Welt mit den Wel­ten der Pro­duk­tion­sporzesse und neuer Pro­duk­ten­twick­lun­gen. Diese Her­aus­forderung erfordert kreativ­en Pio­niergeist. Mit ihrer einzi­gar­ti­gen Ange­bot­skom­bi­na­tion bietet die K 2019 die inter­na­tionale Bühne für die Branche und für Ihren Unternehmenserfolg.
URL:https://www.wasser-abwasser-technik.com/veranstaltung/k-messe-2022/
LOCATION:Messe Düsseldorf\, Stockumer Höfe\, Düsseldorf\, 40474\, Deutschland
ATTACH;FMTTYPE=image/jpeg:https://www.wasser-abwasser-technik.com/wp-content/uploads/sites/3/K-Messe-1.jpg
ORGANIZER;CN="Messe D%C3%BCsseldorf GmbH":MAILTO:infoservice@messe-duesseldorf.de
END:VEVENT
BEGIN:VEVENT
DTSTART;TZID=Europe/Berlin:20221024T140000
DTEND;TZID=Europe/Berlin:20221027T123000
DTSTAMP:20260420T003606
CREATED:20220330T143527Z
LAST-MODIFIED:20220330T143527Z
UID:52228-1666620000-1666873800@www.wasser-abwasser-technik.com
SUMMARY:Gewässerschutz: Seminar über Fachkundelehrgang für Gewässerschutzbeauftragte
DESCRIPTION:In diesem Lehrgang wer­den Rechts­grund­la­gen des Gewässer­schutzes ver­mit­telt und es wer­den die Rechtsstel­lung\, Ver­ant­wor­tung und Haf­tung des Betrieb­s­beauf­tragten für Gewässer­schutz erläutert. \nAuf­bauend auf diesen Grund­la­gen verdeut­lichen wir Ihnen die rechtlichen Anforderun­gen von WHG\, AwSV zum Umgang mit wasserge­fährden­den Stof­fen\, deren Auswirkung auf die betriebliche Prax­is und den tech­nis­chen Aspek­ten nach TRwS sowie die Abwasserbe­sei­t­i­gung mit behördlichen Zulas­sun­gen und Direkt- und Indirekteinleiterverordnung. \nIm The­men­bere­ich der Kanal­i­sa­tion und Abwasser­be­hand­lung erfahren Sie die tech­nis­chen Anforderun­gen an die Anla­gen\, die Anforderun­gen an Indi­rek­tein­leit­er\, und deren Vor­be­hand­lung als auch die Behand­lung und Ver­w­er­tung von Klärschläm­men. Eine Ein­führung in die Sys­tem­atik und Entwick­lung der Abwasser­ab­gaben schließen diesen The­men­block ab. \nAm let­zten Tag wird in einem ersten Schw­er­punkt die Überwachung der Abwasserein­leitung nach Zie­len und Umfang und behördlichen Maß­nah­men dargestellt. In einem zweit­en Schw­er­punkt erhal­ten zukün­ftige Betrieb­s­beauf­tragte für Gewässer­schutz wertvolle Prax­is­tipps für eine effiziente Arbeitsweise und Struk­turierung ihrer betrieblichen Aufgaben.
URL:https://www.wasser-abwasser-technik.com/veranstaltung/gewaesserschutz-seminar-ueber-fachkundelehrgang-fuer-gewaesserschutzbeauftragte/
LOCATION:Haus der Technik\, Hollestr. 1\, Essen\, 45127\, Deutschland
ATTACH;FMTTYPE=image/jpeg:https://www.wasser-abwasser-technik.com/wp-content/uploads/sites/3/9A50BCFFE8E0CB-betriebsbeauftragte-fuer-gewaesserschutzWEmcm6UcpruV1_1024x1024.jpg
END:VEVENT
END:VCALENDAR