BEGIN:VCALENDAR
VERSION:2.0
PRODID:-//WASSER ABWASSER TECHNIK - ECPv6.11.2.1//NONSGML v1.0//EN
CALSCALE:GREGORIAN
METHOD:PUBLISH
X-WR-CALNAME:WASSER ABWASSER TECHNIK
X-ORIGINAL-URL:https://www.wasser-abwasser-technik.com
X-WR-CALDESC:Veranstaltungen für WASSER ABWASSER TECHNIK
REFRESH-INTERVAL;VALUE=DURATION:PT1H
X-Robots-Tag:noindex
X-PUBLISHED-TTL:PT1H
BEGIN:VTIMEZONE
TZID:Europe/Berlin
BEGIN:DAYLIGHT
TZOFFSETFROM:+0100
TZOFFSETTO:+0200
TZNAME:CEST
DTSTART:20220327T010000
END:DAYLIGHT
BEGIN:STANDARD
TZOFFSETFROM:+0200
TZOFFSETTO:+0100
TZNAME:CET
DTSTART:20221030T010000
END:STANDARD
END:VTIMEZONE
BEGIN:VEVENT
DTSTART;TZID=Europe/Berlin:20221102T093000
DTEND;TZID=Europe/Berlin:20221103T163000
DTSTAMP:20260420T003604
CREATED:20220330T144041Z
LAST-MODIFIED:20220330T144041Z
UID:52229-1667381400-1667493000@www.wasser-abwasser-technik.com
SUMMARY:Wasserrecht und technischer Gewässerschutz: Seminar für Gewässerschutzbeauftragte
DESCRIPTION:Zunächst wird zunächst ein aktueller Überblick über das The­ma “Wasser­recht” gegeben. Die Neuregelung des Wasser­rechts wird vorgestellt\, EU-Wasser­rah­men- und Tochter­richtlin­ien wer­den erörtert. Wasser­nutzungsent­gelte und Abwasser­ab­gabe\, Abwasserverord­nung\, Ober­flächengewässerV\, Grund­wasserV und die strafrechtliche Verantwortung/Gefährdungshaftung schließen diesen Tag ab. \nDer Schw­er­punkt des zweit­en Teils liegt bei den Auf­gaben\, Recht­en und Pflicht­en des Gewässer­schutzbeauf­tragten im neuen Wasser­recht\, der Ein­stu­fung von wasserge­fährden­den Stof­fen und den Anforderun­gen von WHG\, AwSV und TRwS an die tech­nis­chen Anla­gen mit ihren Her­aus­forderun­gen für die betriebliche Praxis.
URL:https://www.wasser-abwasser-technik.com/veranstaltung/wasserrecht-und-technischer-gewaesserschutz-seminar-fuer-gewaesserschutzbeauftragte/
LOCATION:Haus der Technik\, Hollestr. 1\, Essen\, 45127\, Deutschland
ATTACH;FMTTYPE=image/jpeg:https://www.wasser-abwasser-technik.com/wp-content/uploads/sites/3/2C8627BD244B6C-neue-entwicklungen-im-wasserrecht-und-im-technischen-gewaesserschutzf9dSd8nW5uoSi_1024x1024.jpg
END:VEVENT
END:VCALENDAR