BEGIN:VCALENDAR
VERSION:2.0
PRODID:-//WASSER ABWASSER TECHNIK - ECPv6.11.2.1//NONSGML v1.0//EN
CALSCALE:GREGORIAN
METHOD:PUBLISH
X-WR-CALNAME:WASSER ABWASSER TECHNIK
X-ORIGINAL-URL:https://www.wasser-abwasser-technik.com
X-WR-CALDESC:Veranstaltungen für WASSER ABWASSER TECHNIK
REFRESH-INTERVAL;VALUE=DURATION:PT1H
X-Robots-Tag:noindex
X-PUBLISHED-TTL:PT1H
BEGIN:VTIMEZONE
TZID:Europe/Berlin
BEGIN:DAYLIGHT
TZOFFSETFROM:+0100
TZOFFSETTO:+0200
TZNAME:CEST
DTSTART:20200329T010000
END:DAYLIGHT
BEGIN:STANDARD
TZOFFSETFROM:+0200
TZOFFSETTO:+0100
TZNAME:CET
DTSTART:20201025T010000
END:STANDARD
END:VTIMEZONE
BEGIN:VEVENT
DTSTART;VALUE=DATE:20200514
DTEND;VALUE=DATE:20200516
DTSTAMP:20260421T163426
CREATED:20200109T145134Z
LAST-MODIFIED:20200109T145134Z
UID:52198-1589414400-1589587199@www.wasser-abwasser-technik.com
SUMMARY:Chemische Anlagen – der Weg durch das Rechtskataster am Beispiel Galvanik
DESCRIPTION:Die Anforderun­gen des Geset­zge­bers an die Ver­ant­wor­tung von Fir­men und Unternehmen wur­den in den let­zten Jahren laufend aufge­baut. Durch diese Entwick­lung wer­den Unternehmen im Bere­ich des Arbeits- und Betrieb­ss­chutzes (Bere­ich Umwelt) zunehmenden Haf­tungsrisiken aus­ge­set­zt. Die Vielzahl an geset­zlichen Vor­gaben erschw­ert dem Beauf­tragten in diesen Bere­ichen\, Umweltschutz eingeschlossen\, den Anforderun­gen gerecht zu werden. \nIn diesem Sem­i­nar ler­nen Sie die grundle­gen­den Säulen eines kon­for­men Umgangs mit dem durch­schnit­tlichen Recht­skataster am Beispiel ein­er Gal­vanik ken­nen. Sie iden­ti­fizieren wesentliche Haf­tungsrisiken für sich und Ihre Mitar­beit­er in der Unternehmensstruk­tur und ken­nen Maß­nah­men zur Risiko­min­imierung. Sie ler­nen an Beispie­len\, wie die geforderten Geset­ze umge­set­zt wer­den\, wie Per­son­al sin­nvoll einge­set­zt wird. \nGerne kön­nen Sie Prax­is­beispiele aus Ihrem Unternehmen ein­brin­gen\, welche im Sem­i­nar konkret besprochen werden. \nDas Sem­i­nar ist schw­er­punk­t­mäßig für Mitar­beit­er aus Unternehmen unter­halb der Stör­fall­rel­e­vanz geeignet\, die The­men des Stör­fall­rechts wer­den in Auszü­gen behandelt. \n\n\nZum Thema\nDer Ein­stieg in eine führende Posi­tion ein­er chemis­chen Anlage bringt zahlre­iche Ver­ant­wor­tung mit sich. The­men wie Arbeitss­chutzrecht (Arb­Sch)\, Betrieb­ss­chutz (BetrSch)\, all­ge­mein­er Umweltschutz und Forderun­gen der Seveso III\, gehören in Ihren neuen Ver­ant­wor­tungs­bere­ich. Am Beispiel ein­er gal­vanis­chen Anlage führen wir Sie sich­er durch die gel­tenden Rechte. \n\n\nProgramm\nTag 1 \n09:00\nBetreiberverantwortung/Delegation\nArbeitss­chutzge­setz (Arb­SchG) \n10:30 Pause \n10:45\nBetrieb­ssicher­heitsverord­nung (Betr­SichV) \n12:30 Pause \n13:30\nBege­hun­gen des Betriebsarztes\nBeispiel Daten­sicher­heits­blatt \n15:00 Pause \n15:15\nGefahrstof­fverord­nung (Gef­Stof­fV)\nBrandschutz/Blitzschutz und Ex SCHUTZ \n17:00\nEnde Tag 1 \nTag 2 \n08:30\nArbeitsmit­tel Gefährdungsbeurteilungen\nPrüfen von Fris­ten\, Bege­hun­gen durch die Fachkraft für Arbeitssicher­heit\, SiFA\, DGVU 3 (orts­fest und orts­be­wegliche Betriebsmittel) \n10:00 Pause \n10:15\nEigene Auf­gabenbeschrei­bung sowie der Mitarbeiter\nbeson­dere Bestel­lun­gen Fachkunde und Sachkunde (Elek­tro­fachkraft\, Leit­ern und Tritte\, Flurförderzeuge)\nBedi­enungsan­leitung und Ein­weisung der Mitar­beit­er (Doku­men­ta­tion)\nBeson­der­heit­en (Druck­be­häl­ter­an­lage Prü­fung nach §15) aller prüf­pflichti­gen Arbeitsmittel\nper­sön­liche Schutzaus­rüs­tung (PSA) \n12:00 Pause \n13:00\nWasser­recht (WHG und AwSV)\nQM-IMS Sys­teme \n14:45 Pause \n15:00\nAbfall (KrWG) \n16:30 Ende der Veranstaltung \n\n\nZielsetzung\nSie erken­nen die Anforderun­gen an Doku­mente\, kön­nen entschei­den\, wo Sie Ihren Regelkreis imple­men­tieren und starten müssen. Darüber hin­aus erhal­ten Sie ein Ver­ständ­nis für angren­zende Arbeitsbereiche. \n\n\nTeilnehmerkreis\n\nGeschäfts­führer\nBetriebs- und Abteilungsleiter\nlei­t­ende Angestellte/Meister/Facharbeiter\nPer­so­n­en in Zusam­me­nar­beit mit Fremdfirmen\n\n\nWeiterführende Links zu “Chemische Anlagen – der Weg durch das Rechtskataster am Beispiel Galvanik”\n\nFra­gen zum Artikel?\nWeit­ere Artikel von HDT
URL:https://www.wasser-abwasser-technik.com/veranstaltung/chemische-anlagen-der-weg-durch-das-rechtskataster-am-beispiel-galvanik-2/
LOCATION:Haus der Technik Berlin\, Wallstraße 23-24\, Berlin\, 10179\, Deutschland
ATTACH;FMTTYPE=image/jpeg:https://www.wasser-abwasser-technik.com/wp-content/uploads/sites/3/HdT_1-1.jpg
END:VEVENT
END:VCALENDAR