BEGIN:VCALENDAR
VERSION:2.0
PRODID:-//WASSER ABWASSER TECHNIK - ECPv6.11.2.1//NONSGML v1.0//EN
CALSCALE:GREGORIAN
METHOD:PUBLISH
X-WR-CALNAME:WASSER ABWASSER TECHNIK
X-ORIGINAL-URL:https://www.wasser-abwasser-technik.com
X-WR-CALDESC:Veranstaltungen für WASSER ABWASSER TECHNIK
REFRESH-INTERVAL;VALUE=DURATION:PT1H
X-Robots-Tag:noindex
X-PUBLISHED-TTL:PT1H
BEGIN:VTIMEZONE
TZID:Europe/Berlin
BEGIN:DAYLIGHT
TZOFFSETFROM:+0100
TZOFFSETTO:+0200
TZNAME:CEST
DTSTART:20200329T010000
END:DAYLIGHT
BEGIN:STANDARD
TZOFFSETFROM:+0200
TZOFFSETTO:+0100
TZNAME:CET
DTSTART:20201025T010000
END:STANDARD
END:VTIMEZONE
BEGIN:VEVENT
DTSTART;VALUE=DATE:20200309
DTEND;VALUE=DATE:20200318
DTSTAMP:20260424T001953
CREATED:20200109T122331Z
LAST-MODIFIED:20200109T122331Z
UID:52184-1583712000-1584489599@www.wasser-abwasser-technik.com
SUMMARY:Brandschutzbeauftragter - Ausbildung zum Brandschutzbeauftragten
DESCRIPTION:Die Aus­bil­dung umfasst ins­ge­samt 64 Unter­richt­sein­heit­en und behan­delt alle für den Brand­schutzbeauf­tragten rel­e­van­ten Themen. \nRechtliche Grund­la­gen sowie die Auf­gaben und Pflicht­en des Brand­schutzbeauf­tragten geben Ihnen einen genauen Überblick über die bevorste­hen­den Aufgaben. \nErfahren Sie an prax­is­be­zo­ge­nen Beispie­len\, welche Ursachen für Brände oder Explo­sio­nen in Frage kom­men und wie Sie diese mit vor­beu­gen­den Maß­nah­men im Brand­schutz ver­hin­dern kön­nen\, bzw. welche geeigneten Gegen­maß­nah­men ein­geleit­et wer­den müssen. \nExper­i­men­talvorträge stellen Ihnen die Grund­la­gen der Ver­bren­nung und der Explo­sio­nen anschaulich vor und verdeut­lichen Ihnen die Unter­schiede von bren­nen­den Gasen\, Met­all­brän­den sowie Fet­tbrän­den und möglichen Löschtech­niken inkl. der richti­gen Auswahl des Hand­feuer­lösch­ers und dessen Umgang. \nLer­nen Sie\, welche tech­nis­chen\, organ­isatorischen oder baulichen (nach VdS Richtlin­ien) vor­beu­gen­den Maß­nah­men das Bran­drisiko in Ihrem Unternehmen reduzieren kön­nen und wie Sie als Brand­schutzbeauf­tragter mit Hil­fe von Alarm­plä­nen\, Flucht- und Ret­tungsplä­nen struk­turi­erten Brand­schutz in Ihrem Unternehmen auf­bauen können. \nSie erler­nen den Umgang mit Ein­satz­plä­nen\, Ablauf- und Organ­i­sa­tion­splä­nen und erstellen Check­lis­ten für die Tätigkeit­en eines Brandschutzbeauftragten. \n\n\nZum Thema\nRein sta­tis­tisch betra­chtet\, entste­ht alle fünf Minuten in einem deutschen Unternehmen ein Feuer mit ver­heeren­den Fol­gen. Daher ist ger­ade der vor­beu­gende Brand­schutz ele­men­tar wichtig und kann nicht früh genug in der Pla­nungsphase mit ein­be­zo­gen werden. \nDie Aus­bil­dung und die Qual­i­fika­tion des Brand­schutzbeauf­tragten sind nach der vfdb-Richtlin­ie 12–09/01: 2014-08 (03) und nach der DGUV Infor­ma­tion 205:003 festgelegt. \nGemäß dieser Vor­gabe beste­ht die Aus­bil­dung zum Brand­schutzbeauf­tragten bei uns im Haus der Tech­nik aus 64 Unter­richt­sein­heit­en\, mit täglich nicht mehr als zehn Ein­heit­en an sieben Tagen\, die so beim HDT ganz entspan­nt auf zwei Wochen verteilt werden. \nInsti­tute\, deren Aus­bil­dung zum Brand­schutzbeauf­tragten weniger als sieben Tagen dauert\, bilden fol­glich nicht den Vorschriften der vfdb Richtlin­ie entsprechend aus. \n\n\nProgramm\nTag 1 (Mon­tag)\, 09:30 — 17:30 Uhr \n\nBegrüßung\nEin­führung in die Brandschutz-Thematik\nBedeu­tung und Ziele des Brandschutzes\nUrsachen für Brände und Explosionen\nBran­drisiken — und was wir daraus ler­nen können\nIndus­tri­eschadens­fälle näher beleuchtet\nRechtliche Grund­la­gen\nBetriebliche Brand­schut­zor­gan­i­sa­tion\nVer­ant­wor­tung für den Brand­schutz im Betrieb\nBrand­schutzrecht in Bezug auf Geset­ze\, Vorschriften\,\nRegel­w­erke und Nor­men der EU\, Deutsch­land\, Unfal­lver­sicherungsträger usw.\n\nDipl.-Ing. Jens-Chris­t­ian VOSS \nTag 2 (Dien­stag)\, 09:00 — 17:30 Uhr \nBaulich­er Brandschutz \n\nBauord­nun­gen der Län­der\, Sonderbauordnungen\,\nTech­nis­che Baubes­tim­mungen\, DIN 4102 bzw. EN-Normen\nIndus­triebau­richtlin­ie\nBaustoffe & Bauteile\nSon­der­bauteile\nFlucht- und Rettungswege\nFlächen für die Feuer­wehr\, sowie Kennzeichnung\nLöschwasserver­sorgung\nBlitzschutz\nSicher­heits­beleuch­tung\nPla­nung und Bew­er­tung baulich­er Anla­gen unter den Gesicht­spunk­ten des Brandschutzes\n\nVer­anstal­tung­sort abhängig: \nHam­burg und Tim­men­dor­fer Strand: Ben­jamin Tschirley\nEssen: Bran­dober­amt­srat Thomas Schönberger\nBerlin: Dipl.-Ing. Jens-Chris­t­ian VOSS\nMünchen: René Keim \nTag 3 (Mittwoch)\, 09:00 — 17:30 Uhr \nAnla­gen­tech­nis­ch­er Brandschutz \n\nBrand- und Gefahrenmeldeanlagen\nRauch- und Wärmeabzugsanlagen\nOrts­feste Feuerlöschanlagen\nLöschwasser­rück­hal­tung\nFilm: Brandtest in Gent\n\nVer­anstal­tung­sort abhängig: \nHam­burg und Tim­men­dor­fer Strand: Ben­jamin Tschirley\nEssen: Bran­dober­amt­srat Thomas Schönberger\nBerlin: Dipl.-Ing. Jens-Chris­t­ian VOSS\nMünchen: René Keim \nTag 4 (Don­ner­stag)\, 09:00 — 11:00 Uhr \n\nExplo­sion­ss­chutz\nBegriffs­bes­tim­mungen\nKen­ngrößen\nGefährdun­gen\nSchutz­maß­nah­men\n\nUlrich LAMERZ \n11:00 – ca. 17:30 Uhr \n\nBrand- und Löschlehre\, sowie hand­betätigte Geräte zur Brandbekämpfung\nGrund­la­gen für Brände\nBrand­klassen\nChemisch-physikalis­che Grundlagen\nAuswahl geeigneter Löschmittel\nTrag­bare und fahrbare Feuerlöschgeräte\nAnwen­dung der ASR A2.2\nDarstellung/Vorführung von Brand- und Explosionsgefahren\nPrax­is: Durch­führung von Löschübungen\n\nVer­anstal­tung­sort abhängig: \nHam­burg und Tim­men­dor­fer Strand: Thomas Hoff\nEssen: Thomas Hoff\nBerlin: Ref­er­enten der Berufs­feuer­wehr Berlin\nMünchen: Thomas Hoff \nTag 5 (Fre­itag)\, 09:00 — 18:00 Uhr \n\nOrgan­isatorisch­er Brand­schutz und Brandschutzmanagement\nGefährdungs­beurteilun­gen / Risikobewertungen\nBrand­schutzkonzept\nBrand­schutz­maß­nah­men\nFes­tle­gen der betrieblichen Brandschutzorganisation\nBrand­schut­zord­nung\nErstellen von Ablauf- und Organisationsplänen\nVer­hal­ten im Brandfall\nAlarmierung\, Evakuierung\, Brandbekämpfung\nBrand­schutzaus­bil­dung der Beschäftigten\nKon­trolle von Brandschutzmaßnahmen\nInte­gra­tion von Brand­schutz in die betriebliche Organisation\nBeurteilung von Brandschutzkonzepten\nÜbung Gefährdungs­beurteilung\nSoziale Kom­pe­tenz\, Didaktik‑\, Methoden‑\,Medienkompetenz für Aus­bil­dung und Unterweisung\n\nVer­anstal­tung­sort abhängig: \nHam­burg und Tim­men­dor­fer Strand: Peter Koch\nEssen: Har­ald Keilmann\nBerlin: Peter Koch\nMünchen: Peter Koch \nTag 6 (Mon­tag)\, 09:00 — 18:00 Uhr \n\nFort­set­zung der The­men vom Freitag\nBehör­den\, Feuer­wehren\, Versicherer\nZuständi­ge Behör­den und deren Aufgaben\nAuf­gaben\, Arten und Leis­tungsver­mö­gen von Feuerwehren\nAbwehren­der Brand­schutz\, Löschwasserversorgung\,\nLöschwasser­rück­hal­tung\nAuf­gaben und Leis­tun­gen der Versicherer\nZusam­me­nar­beit mit Behör­den\, Feuer­wehr und Versicherer\n\nVer­anstal­tung­sort abhängig: \nHam­burg und Tim­men­dor­fer Strand: Peter Koch\nEssen: Har­ald Keilmann\nBerlin: Peter Koch\nMünchen: Peter Koch \nTag 7 (Dien­stag)\, 08:00 — 16:30 Uhr \n\nErar­beitung der Gruppenarbeiten\nPrü­fungsvor­bere­itung\nSchriftliche Abschlussprü­fung (120 min.)\nMündliche Prü­fung (Vor­trag der Gruppenarbeiten)\nAbschluss­diskus­sion\, Auswer­tung des Seminars\n\nVer­anstal­tung­sort abhängig: \nHam­burg und Tim­men­dor­fer Strand: Peter Koch\nEssen: Har­ald Keilmann\nBerlin: Peter Koch\nMünchen: Peter Koch \n\n\nZielsetzung\nDie Aus­bil­dung bere­it­et Sie prax­is­be­zo­gen auf Ihre Tätigkeit als zer­ti­fizierten Brand­schutzbeauf­tragten nach vfdb-Richtlin­ie 12–09/01: 2014-08 (03) vor. Sie erhal­ten einen Überblick über alle\, dem vor­beu­gen­den Brand­schutz gewid­me­ten The­men\, sowie einen Überblick über die rechtlichen Aspek­te. Exper­i­men­talvorträge ver­an­schaulichen Ihnen nochmals die Gefahren und mögliche Gegen­maß­nah­men im Falle eines Bran­des oder ein­er Explo­sion. Check­lis­ten für den All­t­ag erle­ichtern Ihnen den Einstieg. \n\n\nTeilnehmerkreis\nAnge­hende Brand­schutzbeauf­tragte\, Fachkräfte für Arbeitssicher­heit\, Brand­schutzver­ant­wortliche\, Sicherheitsingenieure \n\nWeiterführende Links zu “Brandschutzbeauftragter”\n\nFra­gen zum Artikel?\nWeit­ere Artikel von HDT
URL:https://www.wasser-abwasser-technik.com/veranstaltung/brandschutzbeauftragter-ausbildung-zum-brandschutzbeauftragten/
LOCATION:Haus der Technik\, Hollestr. 1\, Essen\, 45127\, Deutschland
ATTACH;FMTTYPE=image/jpeg:https://www.wasser-abwasser-technik.com/wp-content/uploads/sites/3/HdT_5.jpg
END:VEVENT
BEGIN:VEVENT
DTSTART;VALUE=DATE:20200331
DTEND;VALUE=DATE:20200404
DTSTAMP:20260424T001953
CREATED:20200109T130249Z
LAST-MODIFIED:20200109T130249Z
UID:52190-1585612800-1585958399@www.wasser-abwasser-technik.com
SUMMARY:Ausbildung zum Explosionsschutzbeauftragten
DESCRIPTION:Der Explo­sion­ss­chutzbeauf­tragte sorgt durch regelmäßige Bege­hung der Arbeits­bere­iche und Mitar­beit­er­schu­lung für fachkundi­ge Präven­tion. Er fungiert auch als Schnittstelle zwis­chen dem Unternehmen\, Ver­sicherun­gen\, Behör­den und der Feuerwehr. \nDie viertägige Aus­bil­dung wid­met sich den rechtlichen Bes­tim­mungen\, Schadensereignis­sen und Schutz­maß­nah­men. Schw­er­punk­te sind die Erstel­lung der erforder­lichen Doku­mente\, wie Explo­sion­ss­chutz­doku­men­ta­tion\, Gefährdungs­beurteilung und Gefahrenabwehrplan. \nDer elek­trische und nicht-elek­trische Explo­sion­ss­chutz wird erläutert mit Regel­w­erken und Prü­fungsarten. Die Zündquel­len­analyse wird mit ein­er Übung ver­tieft. Zum kon­struk­tiv­en Explo­sion­ss­chutz gibt es Tipps zur Ver­mei­dung von Zündquellen und für tech­nis­che Schutz­maß­nah­men. Ein Exper­i­men­talvor­trag macht Explo­sion­s­ge­fahren und Schutz­maß­nah­men anschaulich. \nDie Ver­anstal­tung schließt nach ein­er Zusam­men­fas­sung der Auf­gaben des Explo­sion­ss­chutzbeauf­tragten mit ein­er schriftlichen Abschlussprü­fung ab. \n\n\nZum Thema\nExplo­sio­nen stellen eine große Gefahr für Unternehmen dar\, die mit Gefahrstof­fen wie brennbaren Gasen\, Dämpfen\, Aerosolen oder Stäuben umge­hen. Jedes Jahr entste­ht auf­grund von Explo­sio­nen großer Schaden in deutschen Unternehmen. Dabei geht es nicht nur um den immensen finanziellen Ver­lust durch die Ver­nich­tung von Betrieb­skap­i­tal oder den nach­fol­gen­den Aus­fall der Pro­duk­tion\, son­dern es entste­hen dabei auch schwere Per­so­n­en­schä­den und schlimme Schä­den an der Umwelt. \nDie für den Explo­sion­ss­chutz notwendi­gen\, sehr umfassenden und tech­nisch hoch anspruchsvollen Maß­nah­men unter­liegen stren­gen rechtlichen und ver­sicherung­stech­nis­chen Aufla­gen. Der Unternehmer alleine ist mit der Ein­hal­tung der Aufla­gen oft über­fordert und so ist es\, ger­ade bei größeren Unternehmen\, rat­sam\, einen fach­lich qual­i­fizierten Explo­sion­ss­chutzbeauf­tragten einzuset­zen. Dabei ist\, ähn­lich wie beim Gefahrstoff­beauf­tragten\, der Begriff “Explo­sion­ss­chutzbeauf­tragter” geset­zlich nicht geschützt. \n\n\nProgramm\n1. Tag\, 09:00 — 17:15 Uhr \n09:00 Ein­führung\, Recht\, Gefahren/Schutzmaßnahmen — Teil I \n\nEin­führung in die Thematik\nBegriffs­bes­tim­mungen\nrechtliche Grund­la­gen im Explosionsschutz\n\nDipl.-Ing. Jens-Chris­t­ian Voss\, Inge­nieur­büro Voss\, Friedberg \n13:15 Ein­führung\, Recht\, Gefahren/Schutzmaßnahmen — Teil II \n\nSchadensereignisse erläutert\nGefahren durch Explo­sio­nen\, Schutzmaßnahmen\nExplo­sion­ss­chutz und Instandhaltung\n\nDipl.-Ing. Jens-Chris­t­ian Voss \n17:15 Ende des 1. Veranstaltungstages \n2. Tag\, 09:00 — 17:15 Uhr \n09:00 Elek­trisch­er Explosionsschutz \n\nVer­ant­wor­tung des Her­stellers / des Anlagenbetreibers\nATEX als Schnittstelle zwis­chen Her­steller und Anwender\ngetren­nte Betra­ch­tung Gase/Stäube auf­grund unter­schiedlich­er Zündverhalten\nGerätekennze­ich­nun­gen juris­tisch (ATEX) und tech­nisch (IEC/EN) bei Gasen und Stäuben\nZünd­schutzarten\nerhöhte Sicher­heit\, Eigensicherheit\nKapselun­gen\neigen­sicher­er Kreis\, Stromkreistypen\ngal­vanis­che Trennung\n\nGer­hard Jung\, Pepperl+Fuchs GmbH\, Mannheim \n13:15 Nichtelek­trisch­er Explo­sion­ss­chutz: Zündge­fahren durch Funken — Grund­la­gen und Maß­nah­men zum Explosionsschutz \n\nAuf­bau des europäis­chen und deutschen Regel­w­erks des nichtelek­trischen Explosionsschutzes\nBegriffs­de­f­i­n­i­tio­nen\nZündge­fahren­be­w­er­tung an Betrieb­smit­teln — nor­ma­tive Grundsätze\nmech­a­nis­che Zün­den­ergien und davon aus­ge­hende Explosionsgefahren\nZünd­wahrschein­lichkeit­en mech­a­nisch erzeugter Funken: Schlag‑\, Schleif- und Reibvorgänge\nSchutz­maß­nah­men\nPrü­fung mech­a­nis­ch­er Arbeitsmittel\n\nDipl.-Ing. Thomas Grunewald\, Bun­de­sanstalt für Mate­ri­al­forschung und ‑prü­fung (BAM)\, Fach­bere­ich 2.1 “Explo­sion­ss­chutz Gase\, Stäube”\, Berlin \n17:15 Ende des 2. Veranstaltungstages \n3. Tag\, 09:00 — 16:30 Uhr \n09:00 Betreiberver­ant­wor­tung: \n\nSichere Anla­gen durch erweit­erte Zündgefahrenbewertungen.\nWech­sel­wirkun­gen der Betrieb­smit­tel untereinander/mit der Umgebung\nQual­i­fika­tion der Mitarbeiter/Verfahrensanweisungen; Del­e­ga­tion von Verantwortungen\nPrüfen und Instandhalten\nNach­weis aller Maß­nah­men auf Eignung/Umsetzung durch Explosionsschutzdokument\n\nGer­hard Jung\, Pepperl+Fuchs GmbH\, Mannheim \n13:15 Kon­struk­tiv­er Explosionsschutz \n\nMaß­nah­men des Explosionsschutzes\nKen­ngrößen im Explosionsschutz\nFak­ten zum Staub-Explosionsschutz\nVer­mei­dung wirk­samer Zündquellen\nBauweisen und tech­nis­che Schutz­maß­nah­men – Funk­tion­sweisen und deren Vor- und Nachteile\nDetek­tion­s­möglichkeit­en\n\nDipl.-Ing. Ulrich Lamerz\, Inter­na­tion­al Explo­sion Pro­tec­tion (IEP) Tech­nolo­gies GmbH\, Ratingen \n16:30 Ende des 3. Veranstaltungstages \n4. Tag\, 09:00 — 16:30 Uhr \n09:00 Exper­i­men­talvor­trag: Ver­hüten von Brän­den und Explo­sio­nen in der betrieblichen Praxis \n\nExplo­sion­ss­chutzge­fahren durch Stäube\, Dämpfe oder Gase\nDarstel­lung der wichtig­sten Zündquellen\nVorstel­lung von erprobten Schutzmaßnahmen\nSchadens­fälle aus der Praxis\n\nDr. rer. nat. Peter Krommes\, ö.b.u.v. Sachver­ständi­ger für Gefahrstoffe\, Gefahrstoff­ber­atung Dr. Krommes\, Neumarkt \n12:30 Organ­i­sa­tion des Explo­sion­ss­chutzes\, Brand­schutz­man­age­ment\, Abschlussprüfung\nPrü­fungsvor­bere­itung (vor der Mittagspause) \n\n“Der Explo­sion­ss­chutzbeauf­tragte“ – Auf­gaben\, Rechte\, Pflichten\nVer­ant­wor­tung und Haftung?\nschriftliche Abschlussprü­fung\nExplo­sion­ss­chutz im Inter­net – wo finde ich was?\n\n16:30 Ende der Veranstaltung \n\n\nZielsetzung\nDurch Explo­sio­nen entste­hen in den Unternehmen große Schä­den. Darum ist es für Unternehmer wichtig\, einen qual­i­fizierten vor­beu­gen­den Explo­sion­ss­chutz zu betreiben.\nDie Aus­bil­dung “Explo­sion­ss­chutzbeauf­tragter“ qual­i­fiziert zum fachkundi­gen Mitar­beit­er\, dessen Auf­gabe darin beste­ht\, den Unternehmer in allen Belan­gen des vor­beu­gen­den Explo­sion­ss­chutzes zu berat­en und zu unterstützen. \n\n\nTeilnehmerkreis\nDas Sem­i­nar “Aus­bil­dung zum Explo­sion­ss­chutzbeauf­tragten” richtet sich an alle\, die im Unternehmen für den Bere­ich Brand- und Explo­sion­ss­chutz ver­ant­wortlich sind oder diese Auf­gabe zukün­ftig übernehmen.\nIns­beson­dere sind Brand­schutzbeauf­tragte\, Fachkräfte für Arbeitssicher­heit\, Stör­fall­beauf­tragte oder Umweltschutzbeauf­tragte ange­sprochen. Die Aus­bil­dung richtet sich auch an Per­so­n­en\, die sich in son­stiger Weise mit dem The­ma Explo­sion­ss­chutz beschäfti­gen\, wie Ver­sicherungs­fach­leute\, Pla­nungsin­ge­nieure oder andere inter­essierte Personen. \n\nWeiterführende Links zu “Ausbildung zum Explosionsschutzbeauftragten”\n\nFra­gen zum Artikel?\nWeit­ere Artikel von HDT
URL:https://www.wasser-abwasser-technik.com/veranstaltung/ausbildung-zum-explosionsschutzbeauftragten/
LOCATION:Haus der Technik Berlin\, Wallstraße 23-24\, Berlin\, 10179\, Deutschland
ATTACH;FMTTYPE=image/jpeg:https://www.wasser-abwasser-technik.com/wp-content/uploads/sites/3/HdT_9.jpg
END:VEVENT
END:VCALENDAR