BEGIN:VCALENDAR
VERSION:2.0
PRODID:-//WASSER ABWASSER TECHNIK - ECPv6.11.2.1//NONSGML v1.0//EN
CALSCALE:GREGORIAN
METHOD:PUBLISH
X-WR-CALNAME:WASSER ABWASSER TECHNIK
X-ORIGINAL-URL:https://www.wasser-abwasser-technik.com
X-WR-CALDESC:Veranstaltungen für WASSER ABWASSER TECHNIK
REFRESH-INTERVAL;VALUE=DURATION:PT1H
X-Robots-Tag:noindex
X-PUBLISHED-TTL:PT1H
BEGIN:VTIMEZONE
TZID:Europe/Berlin
BEGIN:DAYLIGHT
TZOFFSETFROM:+0100
TZOFFSETTO:+0200
TZNAME:CEST
DTSTART:20200329T010000
END:DAYLIGHT
BEGIN:STANDARD
TZOFFSETFROM:+0200
TZOFFSETTO:+0100
TZNAME:CET
DTSTART:20201025T010000
END:STANDARD
END:VTIMEZONE
BEGIN:VEVENT
DTSTART;VALUE=DATE:20200423
DTEND;VALUE=DATE:20200424
DTSTAMP:20260425T235220
CREATED:20200109T140338Z
LAST-MODIFIED:20200109T140338Z
UID:52193-1587600000-1587686399@www.wasser-abwasser-technik.com
SUMMARY:Behälterauslegung und Konstruktion nach EN 13445 Teil 3
DESCRIPTION:Die DIN EN 13445–3:2018–12 legt die Anforderun­gen an die Kon­struk­tion von unbe­feuerten Druck­be­häl­tern nach EN 13445–1:2014 und hergestellt aus Stählen nach EN 13445–2:2014 fest. Dieser Teil gilt für Kon­struk­tion und Berech­nung von Behäl­tern vor der Inbe­trieb­nahme. Er kann auch\, mit entsprechen­den Anpas­sun­gen\, für Berech­nun­gen oder ana­lytis­che Nach­weise im Betrieb ver­wen­det werden. \nDie EN 13445 regelt in ins­ge­samt sieben Teilen die Bemes­sung und Kon­struk­tion von unbe­feuerten Druck­be­häl­tern: Teil 1: All­ge­meines\, Teil 2: Werk­stoffe\, Teil 3: Kon­struk­tion\, Teil 4: Her­stel­lung\, Teil 5: Inspek­tion und Prü­fung\, Teil 6: Anforderun­gen an die Kon­struk­tion und Her­stel­lung von Druck­be­häl­tern und Druck­be­häl­terteilen aus Gus­seisen mit Kugel­graphit\, Teil 7: Anleitung zum Gebrauch des Konformitätsbewertungsverfahrens. \nDieses Sem­i­nar wid­met sich auss­chließlich EN 13445-Teil 3. Das HDT bietet im Zusam­men­hang mit diesem Sem­i­nar ein weit­eres EN 13445-Sem­i­nar an\, das an zwei Tagen schw­er­punk­t­mäßig die Teile ‑1\, ‑2\, ‑4 und ‑5  behandelt. \n\n\nZum Thema\nBehäl­ter\, die neu in Verkehr gebracht wer­den und einen Über­druck von mehr als 0\,5 bar aus­ge­set­zt sind\, müssen die wesentlichen Sicher­heit­san­forderun­gen gemäß Anhang I der Druck­gerä­terichtlin­ie 2014/68/EU erfüllen. Der Her­steller ist verpflichtet\, einen Nach­weis dafür zu erbrin­gen. Dieser gilt der bei der kon­se­quenten Anwen­dung aller Teile der EN 13445 auf­grund der soge­nan­nten Kon­for­mitätsver­mu­tung als erbracht. \nDas Sem­i­nar erk­lärt den Auf­bau der EN 13445–3 und den Zusam­men­hang mit den anderen Teilen der Norm EN 13445. Des Weit­eren gibt es einen Überblick über die unter­schiedlichen Möglichkeit­en bei der Ausle­gung von Behäl­tern bzw. Kom­po­nen­ten nach EN 13445–3 und die Voraus­set­zun­gen\, die dabei erfüllt wer­den müssen. Zusät­zlich wer­den Hin­weise gegeben\, die zu ein­er besseren und kostengün­stigeren Kon­struk­tion führen. \n\n\nProgramm\n1. Tag\, 09:00 — 17:00 Uhr \nDIN EN 13445–3\, Konstruktion \n\nAnwen­dungs­bere­ich\nnor­ma­tive Verweisungen\nDef­i­n­i­tio­nen\nSym­bole und Abkürzungen\ngrundle­gende Ausle­gungskri­te­rien: All­ge­meines — Schutz vor Kor­ro­sion und Ero­sion — Last­fälle — Kon­struk­tions- und Berech­nungsver­fahren — Wand­dick­en­berech­nun­gen (DBF) — Schweiß­naht­fak­tor — Gestal­tungsan­forderun­gen für Schweißverbindungen\nmax­i­mal zuläs­sige Werte für Berech­nungsnennspan­nun­gen: All­ge­meines — Stäh­le — alter­na­tives Ver­fahren für Stäh­le — austeni­tis­che Stäh­le — austeni­tis­che Stäh­le mit ein­er Bruchdehnung >= 35% — Stahlguss\nÜber­sicht: Ausle­gung nach DBF\n\n\n\nZielsetzung\nHer­steller und Betreiber wer­den in die Lage ver­set­zt\, Druck­geräte so zu kon­stru­ieren und zu dimen­sion­ieren\, dass die Anforderun­gen der Druck­geräte Richtlin­ie (DGRL) erfüllt sind. Dies gilt sowohl für eine Neuer­stel­lung als auch für einen Umbau oder eine Instandsetzung. \n\n\nTeilnehmerkreis\nInge­nieure und Tech­niker\, die sich in ihrer täglichen Arbeit mit der kon­struk­tiv­en Pla­nung\, der Dimen­sion­ierung und Span­nungs­berech­nung von Druck­be­häl­tern beschäftigen. \n\nWeiterführende Links zu “Behälterauslegung und Konstruktion nach EN 13445 Teil 3”\n\n Fra­gen zum Artikel?\n Weit­ere Artikel von HDT
URL:https://www.wasser-abwasser-technik.com/veranstaltung/behaelterauslegung-und-konstruktion-nach-en-13445-teil-3/
LOCATION:Haus der Technik\, Hollestr. 1\, Essen\, 45127\, Deutschland
ATTACH;FMTTYPE=image/png:https://www.wasser-abwasser-technik.com/wp-content/uploads/sites/3/HdT_4.png
END:VEVENT
END:VCALENDAR