BEGIN:VCALENDAR
VERSION:2.0
PRODID:-//WASSER ABWASSER TECHNIK - ECPv6.11.2.1//NONSGML v1.0//EN
CALSCALE:GREGORIAN
METHOD:PUBLISH
X-ORIGINAL-URL:https://www.wasser-abwasser-technik.com
X-WR-CALDESC:Veranstaltungen für WASSER ABWASSER TECHNIK
REFRESH-INTERVAL;VALUE=DURATION:PT1H
X-Robots-Tag:noindex
X-PUBLISHED-TTL:PT1H
BEGIN:VTIMEZONE
TZID:Europe/Berlin
BEGIN:DAYLIGHT
TZOFFSETFROM:+0100
TZOFFSETTO:+0200
TZNAME:CEST
DTSTART:20220327T010000
END:DAYLIGHT
BEGIN:STANDARD
TZOFFSETFROM:+0200
TZOFFSETTO:+0100
TZNAME:CET
DTSTART:20221030T010000
END:STANDARD
END:VTIMEZONE
BEGIN:VEVENT
DTSTART;VALUE=DATE:20220531
DTEND;VALUE=DATE:20220603
DTSTAMP:20260422T065659
CREATED:20220209T125731Z
LAST-MODIFIED:20220209T125731Z
UID:52208-1653955200-1654214399@www.wasser-abwasser-technik.com
SUMMARY:LogiMAT 2022
DESCRIPTION:Die Messe Logi­MAT in Stuttgart ist die Intral­o­gis­tikmesse und inter­na­tionale Fachmesse für Dis­tri­b­u­tion\, Mate­r­i­al- und Infor­ma­tions­fluss. Mehr als 1.300 inter­na­tionale Aussteller präsen­tieren auf der Logi­MAT Messe Stuttgart inno­v­a­tive Pro­duk­te\, Lösun­gen und Sys­teme für die Beschaffungs‑\, Lager‑\, Pro­duk­tions- und Dis­tri­b­u­tion­slo­gis­tik und bieten einen voll­ständi­gen Mark­tüberblick über alles\, was die Intral­o­gis­tik-Branche bewegt. Das The­men­spek­trum der Intral­o­gis­tikmesse Stuttgart umfasst somit alls Bere­iche der Branche\, von der Beschaf­fung über die Pro­duk­tion bis zur Aus­liefer­ung sowie ver­schiedene Möglichkeit­en zur Prozes­sop­ti­mierung und Kostensenkung. Das Rah­men­pro­gramm der Logi­MAT Stuttgart Messe umfasst rund 30 Fach­foren und Vorträge\, in denen mehr als 100 Ref­er­enten und Experten von führen­den Branchen­ver­bän­den\, Bil­dung­sein­rich­tun­gen und Medi­en über topak­tuelle The­men referieren.
URL:https://www.wasser-abwasser-technik.com/veranstaltung/logimat-2022/
LOCATION:Landesmesse Stuttgart\, Messepiazza 1\, Stuttgart\, 70629 \, Deutschland
ATTACH;FMTTYPE=image/png:https://www.wasser-abwasser-technik.com/wp-content/uploads/sites/3/LogiMat_logo.png
ORGANIZER;CN="EUROEXPO Messe- und Kongress GmbH":MAILTO:logimat@euroexpo.de
END:VEVENT
END:VCALENDAR