BEGIN:VCALENDAR
VERSION:2.0
PRODID:-//WASSER ABWASSER TECHNIK - ECPv6.11.2.1//NONSGML v1.0//EN
CALSCALE:GREGORIAN
METHOD:PUBLISH
X-WR-CALNAME:WASSER ABWASSER TECHNIK
X-ORIGINAL-URL:https://www.wasser-abwasser-technik.com
X-WR-CALDESC:Veranstaltungen für WASSER ABWASSER TECHNIK
REFRESH-INTERVAL;VALUE=DURATION:PT1H
X-Robots-Tag:noindex
X-PUBLISHED-TTL:PT1H
BEGIN:VTIMEZONE
TZID:Europe/Berlin
BEGIN:DAYLIGHT
TZOFFSETFROM:+0100
TZOFFSETTO:+0200
TZNAME:CEST
DTSTART:20210328T010000
END:DAYLIGHT
BEGIN:STANDARD
TZOFFSETFROM:+0200
TZOFFSETTO:+0100
TZNAME:CET
DTSTART:20211031T010000
END:STANDARD
END:VTIMEZONE
BEGIN:VEVENT
DTSTART;VALUE=DATE:20210224
DTEND;VALUE=DATE:20210226
DTSTAMP:20260423T054502
CREATED:20200304T063038Z
LAST-MODIFIED:20200304T063038Z
UID:52168-1614124800-1614297599@www.wasser-abwasser-technik.com
SUMMARY:Pumps & Valves 2021
DESCRIPTION:Pumps & Valves in Antwer­pen ist eine Fachmesse für Pumpen und Ven­tile. Diese Fachmesse ist Kom­mu­nika­tions- und Infor­ma­tion­splat­tform der Branche und bietet den ausstel­len­den Fir­men Gele­gen­heit sich hier einem Fach­pub­likum zu präsen­tieren. Der Besuch­er kann sich hier einge­hend und umfassend über die neuesten Entwick­lun­gen\, Trends\, Dien­stleis­tun­gen und Pro­duk­te aus den unter­schiedlich­sten Bere­ichen informieren. \nDie Fachmesse bietet erneut eine her­vor­ra­gende Geschäft­splat­tform für Aussteller und Fachbe­such­er. Neben führen­den Anbi­etern mit ihren aktuellen Pro­duk­ten erleben Besuch­er ein Rah­men­pro­gramm\, das wichtige The­men wie Energieef­fizienz und Dig­i­tal­isierung präsen­tieren wird. \nAn bei­den Mes­se­ta­gen bietet die Pumps & Valves Dort­mund ihren Besuch­ern wieder ein abwech­slungsre­ich­es Rahmenprogramm. \nIn umfassenden Fachvorträ­gen\, Sem­i­naren\, Work­shops und Guid­ed Tours informieren Sie sich über aktuell­ste tech­nol­o­gis­che Entwick­lun­gen\, Trends und Prax­is­beispiele aus der Indus­trie. Experten der Branche bericht­en und disku­tieren neue Ansätze aus der Forschung und Prax­is zu aktuellen Fokus-Themen.
URL:https://www.wasser-abwasser-technik.com/veranstaltung/pumps-valves-2021/
LOCATION:Westfalenhallen Dortmund GmbH\, Strobelallee 45\, Dortmund\, 44139\, Deutschland
ATTACH;FMTTYPE=image/png:https://www.wasser-abwasser-technik.com/wp-content/uploads/sites/3/pumps_valvaes.png
ORGANIZER;CN="easyFairs Deutschland GmbH":MAILTO:deutschland@easyfairs.com
END:VEVENT
END:VCALENDAR