BEGIN:VCALENDAR
VERSION:2.0
PRODID:-//WASSER ABWASSER TECHNIK - ECPv6.11.2.1//NONSGML v1.0//EN
CALSCALE:GREGORIAN
METHOD:PUBLISH
X-ORIGINAL-URL:https://www.wasser-abwasser-technik.com
X-WR-CALDESC:Veranstaltungen für WASSER ABWASSER TECHNIK
REFRESH-INTERVAL;VALUE=DURATION:PT1H
X-Robots-Tag:noindex
X-PUBLISHED-TTL:PT1H
BEGIN:VTIMEZONE
TZID:Europe/Berlin
BEGIN:DAYLIGHT
TZOFFSETFROM:+0100
TZOFFSETTO:+0200
TZNAME:CEST
DTSTART:20200329T010000
END:DAYLIGHT
BEGIN:STANDARD
TZOFFSETFROM:+0200
TZOFFSETTO:+0100
TZNAME:CET
DTSTART:20201025T010000
END:STANDARD
END:VTIMEZONE
BEGIN:VEVENT
DTSTART;VALUE=DATE:20200423
DTEND;VALUE=DATE:20200425
DTSTAMP:20260423T002720
CREATED:20200109T144329Z
LAST-MODIFIED:20200109T144329Z
UID:52196-1587600000-1587772799@www.wasser-abwasser-technik.com
SUMMARY:Anwendung der Druckgeräterichtlinie (DGRL)
DESCRIPTION:Das Sem­i­nar ver­mit­telt die wesentlichen Inhalte der Druck­gerä­terichtlin­ie (DGRL) Richtlin­ie 2014/68/EU. \nInhalt\nTeil 1 Poli­tis­ch­er Rahmen \n\nDie Druck­gerä­terichtlin­ie\, ein ein­heitlich­es europäis­ches Druckgeräteregelwerk\nBewe­gründe zur Ein­führung\, Ein­bindung in EG Recht und Umset­zung in nationales Recht\, Tren­nung von Beschaf­fen­heit und Betrieb\n\nTeil 2 DGRL Grundlagen \n\nGel­tungs­bere­ich\, Ausschlüsse\nWesentliche Begriffe (Flu­id\, Flu­id­gruppe\, Kat­e­gorie\, Modul)\nEin­stu­fung von Druckgeräten\nParteien (Her­steller\, Noti­fizierte Stellen\, Händler\, Importeure)\nCE Kennze­ich­nung\, EG-Kon­for­mität­serk­lärung\, Betriebsanleitung\nLeitlin­ie zur DGRL\n\nTeil 3 \n\nGrundle­gende (wesentliche) Sicher­heit­san­forderun­gen und har­mon­isierte Normen\nÜber­sicht und Diskus­sion der wesentlichen Sicher­heit­san­forderun­gen (Gefahre­n­analyse\, Entwurf\, Fer­ti­gung\, Werk­stoffe\, beson­dere quan­ti­ta­tive Anforderungen)\nÜber­sicht über EN Nor­men für Druck­be­häl­ter\, Rohrleitun­gen\, Dampfkessel\, Sicher­heit­sein­rich­tun­gen und Ausrüstungsteile\n\nTeil 4 \n\nSchnittstellen zum Betrieb aus Sicht des Inverkehrbringens\nPrü­fung von Bau­grup­pen nach DGRL und Betr­SichV\, Inbe­trieb­set­zung ver­sus Betrieb\, Umbau- und Mod­i­fika­tion von Bestandsanlagen\n\nZum Thema\n\n\nDie Druck­gerä­terichtlin­ie (DGRL) gilt seit Mai 2002 für das Inverkehrbrin­gen von Druck­geräten und Bau­grup­pen in der europäis­chen Union. Veröf­fentlicht als Richtlin­ie 97/23/EG und ab Juli 2016 gültig in der geän­derten Fas­sung als Richtlin­ie 2014/68/EU\, ist sie das verbindliche Regel­w­erk für all jene\, die Druck­geräte her­stellen\, auf dem Markt bere­it­stellen oder prüfen. Besteller von Druck­geräten sind gut berat­en\, die Grund­la­gen der DGRL zu ken­nen\, damit sie ihre Bestell­spez­i­fika­tio­nen regelkon­form erstellt kön­nen. Viele Regelun­gen\, die den Betrieb von Druck­geräten betr­e­f­fen\, basieren auf Fes­tle­gun­gen der DGRL. Aus diesem Grund richtet sich das Sem­i­nar nicht nur an Her­steller von Druck­geräten und Bau­grup­pen und Mitar­beit­er von Prü­for­gan­i­sa­tio­nen son­dern auch an Betreiber­per­son­al\, das für die Beschaf­fung und den Betrieb von Druck­geräten ver­ant­wortlich ist. \nZielsetzung\n\n\nZiel des Sem­i­nares ist es\, den Teil­nehmern die wesentlichen Inhalte der DGRL zu ver­mit­teln und sie in die Lage zu ver­set­zen\, die DGRL in der täglichen Prax­is richtig anzuwen­den. Während des Sem­i­nares wird auch auf die Änderun­gen einge­gan­gen\, die die DGLR 2014/68/EU gegenüber der DGRL 97/23/EG bringt. \n\nWeiterführende Links zu “Anwendung der Druckgeräterichtlinie DGRL”\n\n Fra­gen zum Artikel?\n Weit­ere Artikel von HDT
URL:https://www.wasser-abwasser-technik.com/veranstaltung/anwendung-der-druckgeraeterichtlinie-dgrl/
LOCATION:Haus der Technik\, Hollestr. 1\, Essen\, 45127\, Deutschland
ATTACH;FMTTYPE=image/jpeg:https://www.wasser-abwasser-technik.com/wp-content/uploads/sites/3/HdT_1-2.jpg
END:VEVENT
END:VCALENDAR